BEGIN:VCALENDAR
VERSION:2.0
PRODID:-//Alfond Youth &amp; Community Center - ECPv6.15.20//NONSGML v1.0//EN
CALSCALE:GREGORIAN
METHOD:PUBLISH
X-ORIGINAL-URL:https://www.clubaycc.org
X-WR-CALDESC:Events for Alfond Youth &amp; Community Center
REFRESH-INTERVAL;VALUE=DURATION:PT1H
X-Robots-Tag:noindex
X-PUBLISHED-TTL:PT1H
BEGIN:VTIMEZONE
TZID:America/New_York
BEGIN:DAYLIGHT
TZOFFSETFROM:-0500
TZOFFSETTO:-0400
TZNAME:EDT
DTSTART:20250309T070000
END:DAYLIGHT
BEGIN:STANDARD
TZOFFSETFROM:-0400
TZOFFSETTO:-0500
TZNAME:EST
DTSTART:20251102T060000
END:STANDARD
BEGIN:DAYLIGHT
TZOFFSETFROM:-0500
TZOFFSETTO:-0400
TZNAME:EDT
DTSTART:20260308T070000
END:DAYLIGHT
BEGIN:STANDARD
TZOFFSETFROM:-0400
TZOFFSETTO:-0500
TZNAME:EST
DTSTART:20261101T060000
END:STANDARD
BEGIN:DAYLIGHT
TZOFFSETFROM:-0500
TZOFFSETTO:-0400
TZNAME:EDT
DTSTART:20270314T070000
END:DAYLIGHT
BEGIN:STANDARD
TZOFFSETFROM:-0400
TZOFFSETTO:-0500
TZNAME:EST
DTSTART:20271107T060000
END:STANDARD
END:VTIMEZONE
BEGIN:VEVENT
DTSTART;TZID=America/New_York:20260425T090000
DTEND;TZID=America/New_York:20260425T170000
DTSTAMP:20260422T070818
CREATED:20260326T182315Z
LAST-MODIFIED:20260326T195118Z
UID:6914-1777107600-1777136400@www.clubaycc.org
SUMMARY:Elm City Karate Challenge
DESCRIPTION:Join us for an action-packed day of martial arts competition at the 2026 Elm City Karate Challenge\, welcoming youth and adult martial artists for a fantastic tournament celebrating skill\, discipline\, and sportsmanship. All proceeds go to the Alfond Youth & Community Center. \nThis event is hosted by the AYCC’s in-house martial arts program\, Club Naha Karate-Do. \nEvent Details\n\nDate Saturday\, April 25\, 2026\nLocation Alfond Youth & Community Center (AYCC)\, 126 North Street\, Waterville\nRegistration Begins 7:30 am\nTournament Begins 9:00 am\nFees:\n\nPre-Registration $60 (before April 24)\nRegistration at the door $70\nBlack Belts judging during the event receive a $10 discount\nSpectators receive free admission\n\n\n\nWhether you’re competing or cheering from the sidelines\, don’t miss this premier karate event in Central Maine! \nRegister\nRegister online or download and mail in a check with the completed application. \nRegister Online     Download App \nContact\nShihan Craig Sargent | 207-873-0684 x220 | csargent@clubaycc.org
URL:https://www.clubaycc.org/event/elm-city-karate-challenge/
LOCATION:Alfond Youth & Community Center\, 126 North Street\, Waterville\, ME\, 04901
CATEGORIES:Athletic Event,Community Events,Fundraiser Events,Tournament
ATTACH;FMTTYPE=image/png:https://www.clubaycc.org/wp-content/uploads/2026/03/eckc.apr2026.png
ORGANIZER;CN="Club Naha Karate-Do":MAILTO:csargent@clubaycc.org
END:VEVENT
BEGIN:VEVENT
DTSTART;TZID=America/New_York:20260425T100000
DTEND;TZID=America/New_York:20260425T130000
DTSTAMP:20260422T070818
CREATED:20260219T190607Z
LAST-MODIFIED:20260219T190607Z
UID:6764-1777111200-1777122000@www.clubaycc.org
SUMMARY:Vendor Open House at The Lodge
DESCRIPTION:Join us for a special Vendor Open House at The Lodge at McGrath Pond\, our brand-new event rental venue located at Camp Tracy! \nThis exclusive event is designed for wedding and event industry professionals to get an inside look at the space. Meet our team\, take a guided tour of The Lodge\, and explore scenic amenities available for weddings\, corporate retreats\, and private celebrations. Learn more about our rental offerings\, preferred vendor opportunities\, and how your services can be part of future events hosted at Camp Tracy. \nCalling All Event Vendors!\nWe’re inviting wedding planners\, caterers\, florists\, bar services\, photographers\, transportation providers\, DJs\, rental companies\, and other event-related businesses to attend. This is a great opportunity to network\, ask questions\, and see firsthand how The Lodge at McGrath Pond can complement your services and support your clients’ event needs. \nInterested in attending? Vendors can inquire and RSVP using the form linked below. \nVendor Inquiry Form \nWe look forward to welcoming you and showing you everything The Lodge at McGrath Pond has to offer. \nContact Us:\nAbbie Vidas\, AYCC Senior Director of Venue Services \n207-873-0684 x 214 | avidas@clubaycc.org
URL:https://www.clubaycc.org/event/vendor-open-house-at-the-lodge/
LOCATION:The Lodge at McGrath Pond\, 152 Camp Tracy Meadows\, Oakland\, ME\, 04901\, United States
CATEGORIES:Camp Tracy,Community Events
ATTACH;FMTTYPE=image/jpeg:https://www.clubaycc.org/wp-content/uploads/2025/12/DS2A071.jpg
ORGANIZER;CN="AYCC":MAILTO:info@clubaycc.org
END:VEVENT
BEGIN:VEVENT
DTSTART;TZID=America/New_York:20260428T160000
DTEND;TZID=America/New_York:20260428T173000
DTSTAMP:20260422T070818
CREATED:20260413T145354Z
LAST-MODIFIED:20260413T154210Z
UID:7034-1777392000-1777397400@www.clubaycc.org
SUMMARY:Children's Health in a Digital World - a MaineGeneral Class
DESCRIPTION:Social media is reshaping childhood in profound ways\, affecting emotional\, social\, and physical health. In this two-part discussion\, child psychologist Anne Uecker will share insights from Jonathan Haidt’s book The Anxious Generation\, as a foundation for exploring how social media impacts young people and how families and communities respond. This program invites parents\, caregivers\, and educators to reflect\, share perspectives\, and engage in thoughtful conversation about this evolving issue. Pre-registration is required. \nDetails\nCost: FREE\nDates: Tuesdays\, April 28 – May 5 (2 sessions)\nTime: 4 – 5:30 p.m.\nLocation: Alfond Youth & Community Center\, Waterville (Health Ed. Room)\nInstructor: Anne Uecker\, PhD \nRegister with MaineGeneral 
URL:https://www.clubaycc.org/event/childrens-health-in-a-digital-world-a-mainegeneral-class/
LOCATION:Alfond Youth & Community Center\, 126 North Street\, Waterville\, ME\, 04901
CATEGORIES:Clinics,Community Events,Workshops
ATTACH;FMTTYPE=image/png:https://www.clubaycc.org/wp-content/uploads/2026/04/mainegeneral.class.image_.2026.png
END:VEVENT
BEGIN:VEVENT
DTSTART;TZID=America/New_York:20260429T080000
DTEND;TZID=America/New_York:20260429T170000
DTSTAMP:20260422T070818
CREATED:20260115T160433Z
LAST-MODIFIED:20260115T160710Z
UID:6579-1777449600-1777482000@www.clubaycc.org
SUMMARY:Coffee Talk - April
DESCRIPTION:April 29 – 9:30-10:30 am – 2nd floor lounge \nJoin us for our Monthly Coffee Talk and start your morning with great conversation\, fresh coffee\, and muffins! Members are invited to bring a guest and connect with fellow members and AYCC staff in a relaxed\, welcoming setting. Coffee Talk is held on the last Tuesday of each month from 9:30–10:30 AM in the 2nd Floor Lounge—a perfect opportunity to socialize\, share ideas\, and strengthen community connections.
URL:https://www.clubaycc.org/event/coffee-talk-april/
LOCATION:Alfond Youth & Community Center\, 126 North Street\, Waterville\, ME\, 04901
CATEGORIES:Community Events,Member Events
ATTACH;FMTTYPE=image/jpeg:https://www.clubaycc.org/wp-content/uploads/2026/01/20250625_094912-scaled-e1768492336319.jpg
ORGANIZER;CN="AYCC":MAILTO:info@clubaycc.org
END:VEVENT
END:VCALENDAR