BEGIN:VCALENDAR
VERSION:2.0
PRODID:-//Alfond Youth &amp; Community Center - ECPv6.15.20//NONSGML v1.0//EN
CALSCALE:GREGORIAN
METHOD:PUBLISH
X-WR-CALNAME:Alfond Youth &amp; Community Center
X-ORIGINAL-URL:https://www.clubaycc.org
X-WR-CALDESC:Events for Alfond Youth &amp; Community Center
REFRESH-INTERVAL;VALUE=DURATION:PT1H
X-Robots-Tag:noindex
X-PUBLISHED-TTL:PT1H
BEGIN:VTIMEZONE
TZID:America/New_York
BEGIN:DAYLIGHT
TZOFFSETFROM:-0500
TZOFFSETTO:-0400
TZNAME:EDT
DTSTART:20250309T070000
END:DAYLIGHT
BEGIN:STANDARD
TZOFFSETFROM:-0400
TZOFFSETTO:-0500
TZNAME:EST
DTSTART:20251102T060000
END:STANDARD
BEGIN:DAYLIGHT
TZOFFSETFROM:-0500
TZOFFSETTO:-0400
TZNAME:EDT
DTSTART:20260308T070000
END:DAYLIGHT
BEGIN:STANDARD
TZOFFSETFROM:-0400
TZOFFSETTO:-0500
TZNAME:EST
DTSTART:20261101T060000
END:STANDARD
BEGIN:DAYLIGHT
TZOFFSETFROM:-0500
TZOFFSETTO:-0400
TZNAME:EDT
DTSTART:20270314T070000
END:DAYLIGHT
BEGIN:STANDARD
TZOFFSETFROM:-0400
TZOFFSETTO:-0500
TZNAME:EST
DTSTART:20271107T060000
END:STANDARD
END:VTIMEZONE
BEGIN:VEVENT
DTSTART;TZID=America/New_York:20260425T090000
DTEND;TZID=America/New_York:20260425T170000
DTSTAMP:20260422T055346
CREATED:20260326T182315Z
LAST-MODIFIED:20260326T195118Z
UID:6914-1777107600-1777136400@www.clubaycc.org
SUMMARY:Elm City Karate Challenge
DESCRIPTION:Join us for an action-packed day of martial arts competition at the 2026 Elm City Karate Challenge\, welcoming youth and adult martial artists for a fantastic tournament celebrating skill\, discipline\, and sportsmanship. All proceeds go to the Alfond Youth & Community Center. \nThis event is hosted by the AYCC’s in-house martial arts program\, Club Naha Karate-Do. \nEvent Details\n\nDate Saturday\, April 25\, 2026\nLocation Alfond Youth & Community Center (AYCC)\, 126 North Street\, Waterville\nRegistration Begins 7:30 am\nTournament Begins 9:00 am\nFees:\n\nPre-Registration $60 (before April 24)\nRegistration at the door $70\nBlack Belts judging during the event receive a $10 discount\nSpectators receive free admission\n\n\n\nWhether you’re competing or cheering from the sidelines\, don’t miss this premier karate event in Central Maine! \nRegister\nRegister online or download and mail in a check with the completed application. \nRegister Online     Download App \nContact\nShihan Craig Sargent | 207-873-0684 x220 | csargent@clubaycc.org
URL:https://www.clubaycc.org/event/elm-city-karate-challenge/
LOCATION:Alfond Youth & Community Center\, 126 North Street\, Waterville\, ME\, 04901
CATEGORIES:Athletic Event,Community Events,Fundraiser Events,Tournament
ATTACH;FMTTYPE=image/png:https://www.clubaycc.org/wp-content/uploads/2026/03/eckc.apr2026.png
ORGANIZER;CN="Club Naha Karate-Do":MAILTO:csargent@clubaycc.org
END:VEVENT
BEGIN:VEVENT
DTSTART;TZID=America/New_York:20260513T093000
DTEND;TZID=America/New_York:20260513T170000
DTSTAMP:20260422T055346
CREATED:20260409T192600Z
LAST-MODIFIED:20260409T192600Z
UID:7003-1778664600-1778691600@www.clubaycc.org
SUMMARY:ASP Seedling Sale - May 13
DESCRIPTION:Flowers | Herbs | Vegetables | Fruits \nGet ready for spring planting at our annual Seedling Sale\, featuring a wide variety of locally grown flowers\, herbs\, vegetables\, and fruits; all started from seed in our Mary Nash Beaupre Greenhouse! \n\nMay 13-15\n9:30 am-5:00 pm\nOutside the AYCC\, next to the Greenhouse\nRain or shine event\nCash\, check\, credit/debit accepted\n\nBrowse and shop from a vibrant selection of healthy\, greenhouse-grown seedlings\, perfect for home gardens of all sizes. Every purchase directly supports the Youth Garden Club in our After School Program\, helping provide hands-on learning experiences and fostering a love for gardening\, sustainability\, and healthy living in our community’s youth. \nShop Local. Grow Your Garden. Support Youth. \nContact: \nEmily Shepherd | 207-873-0684 | eshepherd@clubaycc.org
URL:https://www.clubaycc.org/event/asp-seedling-sale-may-13/
LOCATION:Alfond Youth & Community Center\, 126 North Street\, Waterville\, ME\, 04901
CATEGORIES:Community Events,Fundraiser Events,Member Events
ATTACH;FMTTYPE=image/jpeg:https://www.clubaycc.org/wp-content/uploads/2025/04/20240626_152315-scaled.jpg
ORGANIZER;CN="Alfond Youth & Community Center":MAILTO:pguerette@clubaycc.org
END:VEVENT
BEGIN:VEVENT
DTSTART;TZID=America/New_York:20260514T093000
DTEND;TZID=America/New_York:20260514T170000
DTSTAMP:20260422T055346
CREATED:20260409T192753Z
LAST-MODIFIED:20260409T192753Z
UID:7005-1778751000-1778778000@www.clubaycc.org
SUMMARY:ASP Seedling Sale - May 14
DESCRIPTION:Flowers | Herbs | Vegetables | Fruits \nGet ready for spring planting at our annual Seedling Sale\, featuring a wide variety of locally grown flowers\, herbs\, vegetables\, and fruits; all started from seed in our Mary Nash Beaupre Greenhouse! \n\nMay 13-15\n9:30 am-5:00 pm\nOutside the AYCC\, next to the Greenhouse\nRain or shine event\nCash\, check\, credit/debit accepted\n\nBrowse and shop from a vibrant selection of healthy\, greenhouse-grown seedlings\, perfect for home gardens of all sizes. Every purchase directly supports the Youth Garden Club in our After School Program\, helping provide hands-on learning experiences and fostering a love for gardening\, sustainability\, and healthy living in our community’s youth. \nShop Local. Grow Your Garden. Support Youth. \nContact: \nEmily Shepherd | 207-873-0684 | eshepherd@clubaycc.org
URL:https://www.clubaycc.org/event/asp-seedling-sale-may-14/
LOCATION:Alfond Youth & Community Center\, 126 North Street\, Waterville\, ME\, 04901
CATEGORIES:Community Events,Fundraiser Events,Member Events
ATTACH;FMTTYPE=image/jpeg:https://www.clubaycc.org/wp-content/uploads/2025/04/20240626_152315-scaled.jpg
ORGANIZER;CN="Alfond Youth & Community Center":MAILTO:pguerette@clubaycc.org
END:VEVENT
BEGIN:VEVENT
DTSTART;TZID=America/New_York:20260515T093000
DTEND;TZID=America/New_York:20260515T170000
DTSTAMP:20260422T055346
CREATED:20260409T192920Z
LAST-MODIFIED:20260409T192920Z
UID:7007-1778837400-1778864400@www.clubaycc.org
SUMMARY:ASP Seedling Sale - May 15
DESCRIPTION:Flowers | Herbs | Vegetables | Fruits \nGet ready for spring planting at our annual Seedling Sale\, featuring a wide variety of locally grown flowers\, herbs\, vegetables\, and fruits; all started from seed in our Mary Nash Beaupre Greenhouse! \n\nMay 13-15\n9:30 am-5:00 pm\nOutside the AYCC\, next to the Greenhouse\nRain or shine event\nCash\, check\, credit/debit accepted\n\nBrowse and shop from a vibrant selection of healthy\, greenhouse-grown seedlings\, perfect for home gardens of all sizes. Every purchase directly supports the Youth Garden Club in our After School Program\, helping provide hands-on learning experiences and fostering a love for gardening\, sustainability\, and healthy living in our community’s youth. \nShop Local. Grow Your Garden. Support Youth. \nContact: \nEmily Shepherd | 207-873-0684 | eshepherd@clubaycc.org
URL:https://www.clubaycc.org/event/asp-seedling-sale-may-15/
LOCATION:Alfond Youth & Community Center\, 126 North Street\, Waterville\, ME\, 04901
CATEGORIES:Community Events,Fundraiser Events,Member Events
ATTACH;FMTTYPE=image/jpeg:https://www.clubaycc.org/wp-content/uploads/2025/04/20240626_152315-scaled.jpg
ORGANIZER;CN="Alfond Youth & Community Center":MAILTO:pguerette@clubaycc.org
END:VEVENT
BEGIN:VEVENT
DTSTART;TZID=America/New_York:20260627T170000
DTEND;TZID=America/New_York:20260627T210000
DTSTAMP:20260422T055346
CREATED:20260323T195203Z
LAST-MODIFIED:20260417T161736Z
UID:6905-1782579600-1782594000@www.clubaycc.org
SUMMARY:AYCC Adult Prom: Masks for Our Mission
DESCRIPTION:Dust off your fancy clothes and find your finest mask! You are cordially invited to the AYCC Adult Prom: “Masks for our Mission”. This isn’t your average high school throwback. It’s a Masquerade Ball designed for a great cause.\n\nAll proceeds from the night go directly toward AYCC scholarships\, ensuring everyone in our community has access to the programs they need to thrive.\n\nThe Night Festivities include:\n A live DJ spinning hits all night Cash bar and delicious light hors d’oeuvres The Mystery Reserve: Take a chance to bring home a premium bottle! Silent auction\, 50/50 raffle\, and more Royal Campaign: Who will be our Prom King and Queen? The crowns go to the individuals who raise the most money for our mission throughout the evening!\n\n\nSaturday\, June 27 | 5-9 PM | AYCC Gym\nAdmission: $30 single ticket or $55 for a pair of tickets\nTickets available to pre-order online or pay at the door.\n**Please note this is 21+ only event**\n\nTo order your tickets online:\nSingle Prom Ticket: https://bit.ly/40LotxUCouple Prom Tickets: https://bit.ly/3Py1aFn\n\nStay tuned! We have more surprises to announce as we get closer to the big night. Let’s unmask a brighter future for our neighbors\, together.
URL:https://www.clubaycc.org/event/aycc-adult-prom-masks-for-our-mission/
LOCATION:Alfond Youth & Community Center\, 126 North Street\, Waterville\, ME\, 04901
CATEGORIES:Community Events,Fundraiser Events,Member Events
ATTACH;FMTTYPE=image/png:https://www.clubaycc.org/wp-content/uploads/2026/03/USE-THIS-Event-Facebook-Banners-2-1.png
ORGANIZER;CN="AYCC":MAILTO:info@clubaycc.org
END:VEVENT
END:VCALENDAR